BEGIN:VCALENDAR
VERSION:2.0
PRODID:-//Tempris - ECPv6.15.20//NONSGML v1.0//EN
CALSCALE:GREGORIAN
METHOD:PUBLISH
X-ORIGINAL-URL:https://www.tempris.com
X-WR-CALDESC:Events for Tempris
REFRESH-INTERVAL;VALUE=DURATION:PT1H
X-Robots-Tag:noindex
X-PUBLISHED-TTL:PT1H
BEGIN:VTIMEZONE
TZID:America/New_York
BEGIN:DAYLIGHT
TZOFFSETFROM:-0500
TZOFFSETTO:-0400
TZNAME:EDT
DTSTART:20170312T070000
END:DAYLIGHT
BEGIN:STANDARD
TZOFFSETFROM:-0400
TZOFFSETTO:-0500
TZNAME:EST
DTSTART:20171105T060000
END:STANDARD
BEGIN:DAYLIGHT
TZOFFSETFROM:-0500
TZOFFSETTO:-0400
TZNAME:EDT
DTSTART:20180311T070000
END:DAYLIGHT
BEGIN:STANDARD
TZOFFSETFROM:-0400
TZOFFSETTO:-0500
TZNAME:EST
DTSTART:20181104T060000
END:STANDARD
BEGIN:DAYLIGHT
TZOFFSETFROM:-0500
TZOFFSETTO:-0400
TZNAME:EDT
DTSTART:20190310T070000
END:DAYLIGHT
BEGIN:STANDARD
TZOFFSETFROM:-0400
TZOFFSETTO:-0500
TZNAME:EST
DTSTART:20191103T060000
END:STANDARD
BEGIN:DAYLIGHT
TZOFFSETFROM:-0500
TZOFFSETTO:-0400
TZNAME:EDT
DTSTART:20200308T070000
END:DAYLIGHT
BEGIN:STANDARD
TZOFFSETFROM:-0400
TZOFFSETTO:-0500
TZNAME:EST
DTSTART:20201101T060000
END:STANDARD
BEGIN:DAYLIGHT
TZOFFSETFROM:-0500
TZOFFSETTO:-0400
TZNAME:EDT
DTSTART:20210314T070000
END:DAYLIGHT
BEGIN:STANDARD
TZOFFSETFROM:-0400
TZOFFSETTO:-0500
TZNAME:EST
DTSTART:20211107T060000
END:STANDARD
BEGIN:DAYLIGHT
TZOFFSETFROM:-0500
TZOFFSETTO:-0400
TZNAME:EDT
DTSTART:20220313T070000
END:DAYLIGHT
BEGIN:STANDARD
TZOFFSETFROM:-0400
TZOFFSETTO:-0500
TZNAME:EST
DTSTART:20221106T060000
END:STANDARD
BEGIN:DAYLIGHT
TZOFFSETFROM:-0500
TZOFFSETTO:-0400
TZNAME:EDT
DTSTART:20230312T070000
END:DAYLIGHT
BEGIN:STANDARD
TZOFFSETFROM:-0400
TZOFFSETTO:-0500
TZNAME:EST
DTSTART:20231105T060000
END:STANDARD
END:VTIMEZONE
BEGIN:VTIMEZONE
TZID:Europe/Berlin
BEGIN:DAYLIGHT
TZOFFSETFROM:+0100
TZOFFSETTO:+0200
TZNAME:CEST
DTSTART:20170326T010000
END:DAYLIGHT
BEGIN:STANDARD
TZOFFSETFROM:+0200
TZOFFSETTO:+0100
TZNAME:CET
DTSTART:20171029T010000
END:STANDARD
BEGIN:DAYLIGHT
TZOFFSETFROM:+0100
TZOFFSETTO:+0200
TZNAME:CEST
DTSTART:20180325T010000
END:DAYLIGHT
BEGIN:STANDARD
TZOFFSETFROM:+0200
TZOFFSETTO:+0100
TZNAME:CET
DTSTART:20181028T010000
END:STANDARD
BEGIN:DAYLIGHT
TZOFFSETFROM:+0100
TZOFFSETTO:+0200
TZNAME:CEST
DTSTART:20190331T010000
END:DAYLIGHT
BEGIN:STANDARD
TZOFFSETFROM:+0200
TZOFFSETTO:+0100
TZNAME:CET
DTSTART:20191027T010000
END:STANDARD
BEGIN:DAYLIGHT
TZOFFSETFROM:+0100
TZOFFSETTO:+0200
TZNAME:CEST
DTSTART:20200329T010000
END:DAYLIGHT
BEGIN:STANDARD
TZOFFSETFROM:+0200
TZOFFSETTO:+0100
TZNAME:CET
DTSTART:20201025T010000
END:STANDARD
BEGIN:DAYLIGHT
TZOFFSETFROM:+0100
TZOFFSETTO:+0200
TZNAME:CEST
DTSTART:20210328T010000
END:DAYLIGHT
BEGIN:STANDARD
TZOFFSETFROM:+0200
TZOFFSETTO:+0100
TZNAME:CET
DTSTART:20211031T010000
END:STANDARD
BEGIN:DAYLIGHT
TZOFFSETFROM:+0100
TZOFFSETTO:+0200
TZNAME:CEST
DTSTART:20220327T010000
END:DAYLIGHT
BEGIN:STANDARD
TZOFFSETFROM:+0200
TZOFFSETTO:+0100
TZNAME:CET
DTSTART:20221030T010000
END:STANDARD
BEGIN:DAYLIGHT
TZOFFSETFROM:+0100
TZOFFSETTO:+0200
TZNAME:CEST
DTSTART:20230326T010000
END:DAYLIGHT
BEGIN:STANDARD
TZOFFSETFROM:+0200
TZOFFSETTO:+0100
TZNAME:CET
DTSTART:20231029T010000
END:STANDARD
END:VTIMEZONE
BEGIN:VTIMEZONE
TZID:Europe/Prague
BEGIN:DAYLIGHT
TZOFFSETFROM:+0100
TZOFFSETTO:+0200
TZNAME:CEST
DTSTART:20180325T010000
END:DAYLIGHT
BEGIN:STANDARD
TZOFFSETFROM:+0200
TZOFFSETTO:+0100
TZNAME:CET
DTSTART:20181028T010000
END:STANDARD
BEGIN:DAYLIGHT
TZOFFSETFROM:+0100
TZOFFSETTO:+0200
TZNAME:CEST
DTSTART:20190331T010000
END:DAYLIGHT
BEGIN:STANDARD
TZOFFSETFROM:+0200
TZOFFSETTO:+0100
TZNAME:CET
DTSTART:20191027T010000
END:STANDARD
BEGIN:DAYLIGHT
TZOFFSETFROM:+0100
TZOFFSETTO:+0200
TZNAME:CEST
DTSTART:20200329T010000
END:DAYLIGHT
BEGIN:STANDARD
TZOFFSETFROM:+0200
TZOFFSETTO:+0100
TZNAME:CET
DTSTART:20201025T010000
END:STANDARD
END:VTIMEZONE
BEGIN:VTIMEZONE
TZID:Europe/Madrid
BEGIN:DAYLIGHT
TZOFFSETFROM:+0100
TZOFFSETTO:+0200
TZNAME:CEST
DTSTART:20170326T010000
END:DAYLIGHT
BEGIN:STANDARD
TZOFFSETFROM:+0200
TZOFFSETTO:+0100
TZNAME:CET
DTSTART:20171029T010000
END:STANDARD
BEGIN:DAYLIGHT
TZOFFSETFROM:+0100
TZOFFSETTO:+0200
TZNAME:CEST
DTSTART:20180325T010000
END:DAYLIGHT
BEGIN:STANDARD
TZOFFSETFROM:+0200
TZOFFSETTO:+0100
TZNAME:CET
DTSTART:20181028T010000
END:STANDARD
BEGIN:DAYLIGHT
TZOFFSETFROM:+0100
TZOFFSETTO:+0200
TZNAME:CEST
DTSTART:20190331T010000
END:DAYLIGHT
BEGIN:STANDARD
TZOFFSETFROM:+0200
TZOFFSETTO:+0100
TZNAME:CET
DTSTART:20191027T010000
END:STANDARD
END:VTIMEZONE
BEGIN:VTIMEZONE
TZID:Europe/Dublin
BEGIN:STANDARD
TZOFFSETFROM:+0000
TZOFFSETTO:+0100
TZNAME:IST
DTSTART:20170326T010000
END:STANDARD
BEGIN:DAYLIGHT
TZOFFSETFROM:+0100
TZOFFSETTO:+0000
TZNAME:GMT
DTSTART:20171029T010000
END:DAYLIGHT
BEGIN:STANDARD
TZOFFSETFROM:+0000
TZOFFSETTO:+0100
TZNAME:IST
DTSTART:20180325T010000
END:STANDARD
BEGIN:DAYLIGHT
TZOFFSETFROM:+0100
TZOFFSETTO:+0000
TZNAME:GMT
DTSTART:20181028T010000
END:DAYLIGHT
BEGIN:STANDARD
TZOFFSETFROM:+0000
TZOFFSETTO:+0100
TZNAME:IST
DTSTART:20190331T010000
END:STANDARD
BEGIN:DAYLIGHT
TZOFFSETFROM:+0100
TZOFFSETTO:+0000
TZNAME:GMT
DTSTART:20191027T010000
END:DAYLIGHT
END:VTIMEZONE
BEGIN:VEVENT
DTSTART;VALUE=DATE:20220714
DTEND;VALUE=DATE:20220716
DTSTAMP:20260422T113434
CREATED:20230604T235915Z
LAST-MODIFIED:20230605T104427Z
UID:5741-1657756800-1657929599@www.tempris.com
SUMMARY:LYOTALK 14-15 July 2022 - Boston\, USA
DESCRIPTION:Meet Tempris at LYOTALK USA in Boston on July 14th and 15th\, 2022\n \nBiotrains are delighted to invite you to attend the Lyotalk 2022 USA Conference & Exhibition\, which will be held in Boston on July 14th to 15th\, 2022. Lyotalk USA 2022 is a freeze drying/lyophilisation conference that will feature industry experts and thought leaders from the US\, UK\, Europe and around the world. Topics\, case studies and workshops will be presented from all areas of freeze drying such as development\, formulation\, production\, regulation and compliance. \nThe conference will attract a gathering of thought leaders\, professionals from pharmaceutical\, biotechnology\, medical devices companies and academia for two days of in-depth discussion on challenges\, developments and learning of latest technology in freeze drying. There will be ample of opportunity to build new contacts\, networking\, meeting old colleagues\, discovering new business opportunities and partnerships. \nFor more information about LYOTALK USA 2022 and for online registration forms\, please visit: \n\nhttp://www.lyotalk.com/usa.php
URL:https://www.tempris.com/tempris-event/lyotalk-14-15-july-2022-boston-usa/
LOCATION:Vienna
CATEGORIES:Conferences,Trade Shows and Exhibitions
ORGANIZER;CN="Biotrains":MAILTO:info@biotrains.com
END:VEVENT
BEGIN:VEVENT
DTSTART;VALUE=DATE:20220531
DTEND;VALUE=DATE:20220602
DTSTAMP:20260422T113434
CREATED:20230604T235915Z
LAST-MODIFIED:20230605T133018Z
UID:5740-1653955200-1654127999@www.tempris.com
SUMMARY:GMP-PHARMA CONGRESS – 24th Conference and Expo – Düsseldorf/Neuss\, Germany
DESCRIPTION:PharmaCongress Conference\nAfter two years of Virtual PharmaTechnica\, the PharmaCongress returns to its usual form this year – from 31 May to 1 June 2022 in Düsseldorf/Neuss. \nBenefit from more than 50 presentations by GMP inspectors and from pharmaceutical companies planned in the conferences – among them case studies from Boehringer Ingelheim\, Novartis\, Roche\, Merck\, Bayer\, Takeda\, Vetter Pharma-Fertigung\, NovoNordisk and many more. \nTo find out more about the four conferences and the single lectures please see: \n\nhttps://www.pharma-congress.com/conferences.html\n\nAs a participant of the PharmaCongress 2022 conferences\, you can move between the individual conferences any time to benefit from the lectures that are of interest to you. And\, of course\, you can visit the exhibitors of the parallel PharmaTechnica Expo. \nThe following web page will take you to the registration forms for the PharmaCongress conferences: \n\nhttps://www.pharma-congress.com/registration.html\n\nPharmaTechnica Expo\nMore than 70 international exhibitors – the leading European suppliers to the pharmaceutical and biopharmaceutical industry – will be waiting to present their latest products and services and to discuss new technologies and trends with you. \nMeet Tempris at the PharmaTechnica Expo trade show Booth #39. For an exhibition hall plan and to find out who else will be exhibiting this year\, take a look at the exhibitor list: \n\nhttps://www.pharma-congress.com/exhibition.html\n\nAs a registered participant of the conferences\, you will of course have free access to the PharmaTechnica. But even if you are not attending the conferences\, you can request a free visitor ticket for the PharmaTechnica trhough the following web page: \n\nhttps://www.pharma-congress.com/visitor-registration.html
URL:https://www.tempris.com/tempris-event/gmp-pharma-congress-24th-conference-and-expo-dusseldorf-neuss-germany/
LOCATION:Crowne Plaza Dusseldorf – Neuss\, Rheinallee 1\, Neuss\, +49 2131 77-00\, 41460\, Germany
CATEGORIES:Conferences,Trade Shows and Exhibitions
ORGANIZER;CN="CONCEPT HEIDELBERG GmbH":MAILTO:info@concept-heidelberg.de
END:VEVENT
BEGIN:VEVENT
DTSTART;TZID=Europe/Berlin:20210601T000000
DTEND;TZID=Europe/Berlin:20210630T000000
DTSTAMP:20260422T113434
CREATED:20230604T235914Z
LAST-MODIFIED:20230605T100413Z
UID:5739-1622505600-1625011200@www.tempris.com
SUMMARY:ACHEMA Pulse 2021
DESCRIPTION:ACHEMA Pulse – The digital live event\nLive events on 15-16 June 2021 | Online platform open all June \nMeet us on the interactive digital platform at ACHEMA Pulse. We will present interesting and most relevant industry topics and give insights about how Tempris sensor technology can help with optimizing the Lyophilization process. \nTempris Live Events \n\n15 June 2021 / 10:45 – 11:00\nAnton Mangold:\nTempris Pitch: How to Easify Your Lyo Process with Tempris?\n15 June 2021 / 12:15 – 13:00\nDr. Andrea Weiland-Waibel; Franz Bosshammer; Anton Mangold:\n1st Workshop: Continuous Temperature Management with Tempris\n16 June 2021 / 10:00 – 10:45\nDr. Andrea Weiland-Waibel; Franz Bosshammer; Anton Mangold:\n2nd Workshop: Continuous Temperature Management with Tempris\n16 June 2021 / 12:00 – 12:30\nDr. Mostafa Nakach; Anton Mangold:\nPanel Discussion: Freeze Drying as Problem Solver for Product Instability
URL:https://www.tempris.com/tempris-event/achema-pulse-2021/
LOCATION:Vienna
CATEGORIES:Trade Shows and Exhibitions
ORGANIZER;CN="DECHEMA Ausstellungs-GmbH":MAILTO:exhibition@achema.de
END:VEVENT
BEGIN:VEVENT
DTSTART;VALUE=DATE:20190313
DTEND;VALUE=DATE:20190314
DTSTAMP:20260422T113434
CREATED:20230604T235913Z
LAST-MODIFIED:20230605T132022Z
UID:5738-1552435200-1552521599@www.tempris.com
SUMMARY:Lyoscopedia 2019 - Würzburg\, Germany
DESCRIPTION:Meet us at the 14th Lyoscopedia freeze-drying seminar\, which will take place on 13th of March 2019 in the Congress Center Würzburg. Such an opportunity to exchange current news from the world of lyophilization is absolutely impossible to miss. \nLyoscopedia 2019 is a seminar not only for freeze-drying experts\, but also for newcomers. Diverse scientific programme – from academic research to industrial application – also offers room for exciting discussions on the subject of freeze drying. We look forward to meeting you there. \nMore information on the official website – Lyoscopedia 2019.
URL:https://www.tempris.com/tempris-event/lyoscopedia-2019-wurzburg-germany/
LOCATION:Congress Centrum\, Pleichertorstr. 12\, Würzburg\, 97070\, Germany
CATEGORIES:Seminars
ORGANIZER;CN="GILYOS GmbH":MAILTO:info@gilyos.com
END:VEVENT
BEGIN:VEVENT
DTSTART;TZID=Europe/Prague:20190213T080000
DTEND;TZID=Europe/Prague:20190214T163000
DTSTAMP:20260422T113434
CREATED:20230604T235912Z
LAST-MODIFIED:20230605T124825Z
UID:5737-1550044800-1550161800@www.tempris.com
SUMMARY:Pharmaceutical Lyophilization Summit 2019 - Prague\, Czech Republic
DESCRIPTION:Will you be joining us at the Pharmaceutical Lyophilization Summit 2019 in beautuiful Prague?\nYou are well aware of how time consuming and expensive Lyophilization process is. Even though it became more systematic and structured during the past decade\, there are still many issues remaining within lyopilization which require improvement. \nLet’s meet and discuss regulatory challenges and unmet needs within lyophilization! It is a great opportunity to gain insights into latest technologies and discover new methods for scale-up and technology transfer. \nMore information on events official page. \n 
URL:https://www.tempris.com/tempris-event/pharmaceutical-lyophilization-summit-2019-prague-czech-republic/
LOCATION:Novotel Praha Wenceslas Square\, 38 Katerinska\, Prague\, 12000\, Czech Republic
CATEGORIES:Conferences
ORGANIZER;CN="Qepler":MAILTO:info@qepler.com
END:VEVENT
BEGIN:VEVENT
DTSTART;VALUE=DATE:20181127
DTEND;VALUE=DATE:20181129
DTSTAMP:20260422T113434
CREATED:20230604T235908Z
LAST-MODIFIED:20230605T121344Z
UID:5736-1543276800-1543449599@www.tempris.com
SUMMARY:PDA Europe Pharmaceutical Freeze Drying Technology - Seville\, Spain
DESCRIPTION:We are happy to announce our participation at PDA Europe Pharmaceutical Freeze Drying Technology\, in Seville\, Spain.\nCheck out our Tempris table top – number 12.\n \nIt is not the first time for Tempris team to participate at a PDA Europe event and that is why we can assure you – it is a great opportunity to learn about current and novel concepts of Freeze Drying. Also\, it is your chance to get in touch with highly qualified professionals\, ask them questions and get answers. \n“During the last ten years\, freeze-drying of biopharmaceuticals has become a routine procedure\, yet the freeze-drying process remains complex. This meeting provides updates of various technical and regulatory aspects regarding lyophilization.” – says PDA. \nThe atmosphere of PDA’s events is friendly\, yet highly professional.
URL:https://www.tempris.com/tempris-event/pda-europe-pharmaceutical-freeze-drying-technology-seville-spain/
LOCATION:Melià Sevilla\, Calle Dr. Pedro de Castro 1\, Seville\, 41004\, Spain
CATEGORIES:Conferences
END:VEVENT
BEGIN:VEVENT
DTSTART;VALUE=DATE:20180918
DTEND;VALUE=DATE:20180922
DTSTAMP:20260422T113434
CREATED:20230604T235907Z
LAST-MODIFIED:20230605T130240Z
UID:5735-1537228800-1537574399@www.tempris.com
SUMMARY:Freeze Drying of Pharmaceuticals & Biologicals - Garmisch-Partenkirchen\, Germany
DESCRIPTION:Tempris team is going to exhibit at:\nFreeze Drying of Pharmaceuticals & Biologicals – 2018 – Short course and conference.\nThis September – researchers and speakers from all areas of freeze drying of pharmaceuticals and biologicals are gathering together in Garmisch-Partenkirchen\, home of Tempris temperature measuring system. Many hot topics are yet to be discussed: emerging technologies\, alternatives to conventional freeze drying\, mathematical modelling of freeze drying\, formulation science and materials characterization\, and best practices in freeze drying operations. \nJoin us in the beautiful location Dorint Hotel\, Garmisch-Partenkirchen and learn more about the innovations in Lyophilization world. \nContact us for more information.
URL:https://www.tempris.com/tempris-event/freeze-drying-of-pharmaceuticals-biologicals-garmisch-partenkirchen-germany/
LOCATION:Dorint Sporthotel\, Mittenwalder Str. 59\, Garmisch-Partenkirchen\, 82467\, Germany
CATEGORIES:Conferences
END:VEVENT
BEGIN:VEVENT
DTSTART;TZID=America/New_York:20180910T080000
DTEND;TZID=America/New_York:20180910T180000
DTSTAMP:20260422T113434
CREATED:20230604T235906Z
LAST-MODIFIED:20230605T122519Z
UID:5734-1536566400-1536602400@www.tempris.com
SUMMARY:Insights in Lyophilization - Cambridge-Boston\, USA
DESCRIPTION:Tempris team is going to exhibit at “Insights in Lyophilization – Science Tour 2018” – in Boston.\n“A Walk Through the Pikal World of Freeze Drying Over the Past Two Decades”\nIt is an excellent opportunity to discuss the possibilities of Tempris temperature measuring system in greater detail.\n“Each seminar will offer its own unique panel of esteemed presenters with a varied array of topics about fundamentals and special insights into lyophilization processes. Led by Henning Gieseler\, Ph.D. and Margit Gieseler\, Ph.D.\, Co-CEOs of GILYOS GmbH\, topics will include process development\, nucleation control\, scale-up of freeze drying cycles\, development in lyophilization technology\, and more! This educational tour is an inspiring and unique opportunity to gain exclusive insights into the freeze drying industry from the experts. \nA Walk Through the Pikal World of Freeze Drying Over the Past Two Decades will be a special seminar focused on the scientific contributions of the late Prof. Dr. Michael J. Pikal and his lasting impact on the industry\, from presenters including Dr. Serguei Tchessalov\, Charlie Tang\, Lokesh Kumar\, Puneet Sharma\, and more.” – Says SP Scientific about the  Science Tour 2018 \nFor registration and/or more information\, please visit the official website. Or contact us. \nLooking forward to meeting you there!
URL:https://www.tempris.com/tempris-event/insights-in-lyophilization-cambridge-boston-usa/
LOCATION:Pfizer Research Technology Center\, 1 Portland St\, Cambridge\, MA\, MA 02139\, United States
CATEGORIES:Conferences
ORGANIZER;CN="SP - Scientific Products":MAILTO:CSG@scientificproducts.com
END:VEVENT
BEGIN:VEVENT
DTSTART;TZID=Europe/Dublin:20180907T083000
DTEND;TZID=Europe/Dublin:20180907T173000
DTSTAMP:20260422T113434
CREATED:20230604T235905Z
LAST-MODIFIED:20230605T115511Z
UID:5733-1536309000-1536341400@www.tempris.com
SUMMARY:Insights in Lyophilization - Dublin\, Ireland
DESCRIPTION:Tempris team is going to exhibit at “Insights in Lyophilization – Science Tour 2018” – in Dublin.\n“The Combined Decades of Experience Seminar.”\nIt is an excellent opportunity to discuss the possibilities of Tempris temperature measuring system in greater detail.\n“Each seminar will offer its own unique panel of esteemed presenters with a varied array of topics about fundamentals and special insights into lyophilization processes. Led by Henning Gieseler\, Ph.D. and Margit Gieseler\, Ph.D.\, Co-CEOs of GILYOS GmbH\, topics will include process development\, nucleation control\, scale-up of freeze drying cycles\, development in lyophilization technology\, and more! This educational tour is an inspiring and unique opportunity to gain exclusive insights into the freeze drying industry from the experts. \nThe Combined Decades of Experience Seminar will include presentations from Dr. Kevin Ward of Biopharma UK\, Tim Wenzel\, Alexandra Braun\, and Adrian Bennis of AMGEN.” – Says SP Scientific about the  Science Tour 2018 \nFor registration and/or more information\, please visit the official website. Or contact us. \nLooking forward to meeting you there!
URL:https://www.tempris.com/tempris-event/insights-in-lyophilization-dublin-ireland/
LOCATION:NIBRT – National Institute for Bioprocessing Research and Training\, Foster Avenue\, Blackrock\, Co. Dublin\, A94 X099\, Ireland
CATEGORIES:Conferences
ORGANIZER;CN="SP - Scientific Products":MAILTO:CSG@scientificproducts.com
END:VEVENT
BEGIN:VEVENT
DTSTART;TZID=Europe/Berlin:20180611T000000
DTEND;TZID=Europe/Berlin:20180615T000000
DTSTAMP:20260422T113434
CREATED:20230604T235904Z
LAST-MODIFIED:20230605T095800Z
UID:5732-1528675200-1529020800@www.tempris.com
SUMMARY:Achema 2018 - Frankfurt\, Germany
DESCRIPTION:ACHEMA – World Forum and Leading Show for the Process Industries\n \nPave your way to Pharma 4.0 with Tempris.\n\n\n\n\n\nVisit the Tempris team at ACHEMA 2018 – booth C16a\, Hall 11.1 and see first-hand our wireless and battery-free Tempris measuring systems for product temperature monitoring during lyophilisation\, sterilisation and granulation. \nTechnical progress and intensive development work enable us to present the 3rd-generation Tempris measuring system. As a mobile or fixed system it offers even more possibilities for temperature measurement in different applications like freeze-drying or sterilization; \n\nAutomatic loading and unloading\nLaboratory and Production\nScale-Up and Transfer\nProcess Monitoring and Control\nProduct-validation (cold & hot spot mapping\, equipment & product-sterilization)\nMachine-validation (shelf-mapping)\n\n\n\n\n\nMeet the Lyo-Experts\nThis is a unique opportunity to meet our partners\, leading lyo-experts – Dr. A. Weiland and Dr. H. Gieseler\, who will share their latest discoveries in lyophilisation world during a short “in-booth” presentation. \nDr. Andrea Weiland – 12.06.2018 10am and 2pm “Wireless Temperature Measurement in Lyo Process Development\, Validation and Production”.\nDr. Henning Gieseler – 13.06.2018 10am and 2pm “The Challenge of Product Temperature Measurement During Freeze Drying: Traditional and Innovative Solutions” \n\n\n\n \nDr. Andrea Weiland – Explicat Pharma GmbH\nDr. Weiland is a Pharmacist with a Ph.D. in Pharmaceutical Technology on biodegradable microspheres and cyclodextrins (Ludwig Maximilian University Munich). She is founder of Explicat Pharma GmbH and Managing Director since 2005. Hers and her team`s experience covers the development of biopharmaceuticals (e. g. recombinant factor VIII)\, development of lyo formulations and lyo-cycles\, analytical development and related QA as well as regulatory issues. \n \nDr. Henning Gieseler – Gilyos GmbH\nDr. Gieseler has more than 10 years of experience in the field of freeze-drying and physicochemical characterization of materials. He is considered as one of the leading experts in the world of freeze-drying. Henning authored or co-authored numerous publications in this field of interest. He is an active member of the AAPS and volunteer reviewer for a number of well-known research journals.<!– \n\n\nSchedule a Meeting / Get a free Voucher\n[contact-form-7 id=”1535″ title=”Achema 2018 Meeting Reservation”] \n\n–>
URL:https://www.tempris.com/tempris-event/achema-2018-frankfurt-germany/
LOCATION:Messe Frankfurt\, Ludwig-Erhard-Anlage 1\, Frankfurt am Main\, 60327\, Germany
CATEGORIES:Trade Shows and Exhibitions
ORGANIZER;CN="DECHEMA Ausstellungs-GmbH":MAILTO:exhibition@achema.de
END:VEVENT
END:VCALENDAR